BEGIN:VCALENDAR
PRODID:-//Microsoft Corporation//Outlook 16.0 MIMEDIR//EN
VERSION:2.0
METHOD:PUBLISH
X-MS-OLK-FORCEINSPECTOROPEN:TRUE
BEGIN:VEVENT
CLASS:PUBLIC
CREATED:20190219T121257Z
DESCRIPTION:Velkommen til EOT – Electronics of Tomorrow \n\n-> Tjekliste:
	\n\n    1) Printe gratis billet på: https://www.eot.dk/besoeg/print-fribi
	llet     -    Din invitationskode: M9688\n\n    2) Tilmeld dig de konferen
	ceindlæg du gerne vil høre. \n         Se konferenceprogrammet her: http
	s://www.eot.dk/konferenceprogram/konferencespor-og-temaer\n\n    3) Se all
	e udstillere på: https://www.eot.dk/besoeg/udstillerliste\n\n\n-> Mød op
	 og bliv inspireret - vi har sørget for:\n   - Forplejning til dig \n   -
	 Gratis parkering \n\nVi ses til et brag af en event for hele elektronik- 
	og teknologibranchen. \n\n/CORE-emt Teamet\n  www.core-emt.com\n__________
	____________________\n\nWelcome to EOT – Electronics of Tomorrow \n\n-> 
	Checklist:\n\n    1) Print your free ticket: http://www.eot-expo.com/visit
	or/print-entry-ticket    -    Your invitation code: M9688\n\n    2) Sign-u
	p for the conference speakers you want to hear. \n         See conference 
	program here: http://www.eot-expo.com/conferences/tracks-and-topics\n\n   
	 3) See all exhibitors at EOT: http://www.eot-expo.com/visitor/exhibitor-l
	ist\n\nCome and be inspired – included is:\n- Food and drink\n- Free par
	king \n\nLet’s meet at this fantastic event for the electronics and tech
	nology industry. \n\n/The CORE-emt Team\n  www.core-emt.com\n\n\n
DTEND;VALUE=DATE:20190510
DTSTAMP:20180710T075745Z
DTSTART;VALUE=DATE:20190507
LAST-MODIFIED:20190219T121257Z
LOCATION:MCH Messecenter Herning
PRIORITY:1
SEQUENCE:0
SUMMARY;LANGUAGE=da:EOT - Electronics of Tomorrow 2019 
TRANSP:TRANSPARENT
UID:040000008200E00074C5B7101A82E0080000000030773B733418D401000000000000000
	010000000639C914CB26E0E429431ED07A5B243BB
X-ALT-DESC;FMTTYPE=text/html:<!DOCTYPE HTML PUBLIC "-//W3C//DTD HTML 3.2//E
	N">\n<HTML>\n<HEAD>\n<META NAME="Generator" CONTENT="MS Exchange Server ve
	rsion 16.0.10730.20262">\n<TITLE></TITLE>\n</HEAD>\n<BODY>\n<!-- Converted
	 from text/plain format -->\n\n<P><FONT SIZE=2>Velkommen til EOT – Elect
	ronics of Tomorrow </FONT>\n</P>\n\n<P><FONT SIZE=2>-&gt\; Tjekliste:</FON
	T>\n</P>\n\n<P><FONT SIZE=2>&nbsp\;&nbsp\;&nbsp\; 1) Printe gratis billet 
	på: <A HREF="https://www.eot.dk/besoeg/print-fribillet">https://www.eot.d
	k/besoeg/print-fribillet</A>&nbsp\;&nbsp\;&nbsp\;&nbsp\; -&nbsp\;&nbsp\;&n
	bsp\; Din invitationskode: M9688</FONT>\n</P>\n\n<P><FONT SIZE=2>&nbsp\;&n
	bsp\;&nbsp\; 2) Tilmeld dig de konferenceindlæg du gerne vil høre. </FON
	T>\n\n<BR><FONT SIZE=2>&nbsp\;&nbsp\;&nbsp\;&nbsp\;&nbsp\;&nbsp\;&nbsp\;&n
	bsp\; Se konferenceprogrammet her: <A HREF="https://www.eot.dk/konferencep
	rogram/konferencespor-og-temaer">https://www.eot.dk/konferenceprogram/konf
	erencespor-og-temaer</A></FONT>\n</P>\n\n<P><FONT SIZE=2>&nbsp\;&nbsp\;&nb
	sp\; 3) Se alle udstillere på: <A HREF="https://www.eot.dk/besoeg/udstill
	erliste">https://www.eot.dk/besoeg/udstillerliste</A></FONT>\n</P>\n<BR>\n
	\n<P><FONT SIZE=2>-&gt\; Mød op og bliv inspireret - vi har sørget for:<
	/FONT>\n\n<BR><FONT SIZE=2>&nbsp\;&nbsp\; - Forplejning til dig </FONT>\n\
	n<BR><FONT SIZE=2>&nbsp\;&nbsp\; - Gratis parkering </FONT>\n</P>\n\n<P><F
	ONT SIZE=2>Vi ses til et brag af en event for hele elektronik- og teknolog
	ibranchen. </FONT>\n</P>\n\n<P><FONT SIZE=2>/CORE-emt Teamet</FONT>\n\n<BR
	><FONT SIZE=2>&nbsp\; www.core-emt.com</FONT>\n\n<BR><FONT SIZE=2>________
	______________________</FONT>\n</P>\n\n<P><FONT SIZE=2>Welcome to EOT – 
	Electronics of Tomorrow </FONT>\n</P>\n\n<P><FONT SIZE=2>-&gt\; Checklist:
	</FONT>\n</P>\n\n<P><FONT SIZE=2>&nbsp\;&nbsp\;&nbsp\; 1) Print your free 
	ticket: <A HREF="http://www.eot-expo.com/visitor/print-entry-ticket">http:
	//www.eot-expo.com/visitor/print-entry-ticket</A>&nbsp\;&nbsp\;&nbsp\; -&n
	bsp\;&nbsp\;&nbsp\; Your invitation code: M9688</FONT>\n</P>\n\n<P><FONT S
	IZE=2>&nbsp\;&nbsp\;&nbsp\; 2) Sign-up for the conference speakers you wan
	t to hear. </FONT>\n\n<BR><FONT SIZE=2>&nbsp\;&nbsp\;&nbsp\;&nbsp\;&nbsp\;
	&nbsp\;&nbsp\;&nbsp\; See conference program here: <A HREF="http://www.eot
	-expo.com/conferences/tracks-and-topics">http://www.eot-expo.com/conferenc
	es/tracks-and-topics</A></FONT>\n</P>\n\n<P><FONT SIZE=2>&nbsp\;&nbsp\;&nb
	sp\; 3) See all exhibitors at EOT: <A HREF="http://www.eot-expo.com/visito
	r/exhibitor-list">http://www.eot-expo.com/visitor/exhibitor-list</A></FONT
	>\n</P>\n\n<P><FONT SIZE=2>Come and be inspired – included is:</FONT>\n\
	n<BR><FONT SIZE=2>- Food and drink</FONT>\n\n<BR><FONT SIZE=2>- Free parki
	ng </FONT>\n</P>\n\n<P><FONT SIZE=2>Let’s meet at this fantastic event f
	or the electronics and technology industry. </FONT>\n</P>\n\n<P><FONT SIZE
	=2>/The CORE-emt Team</FONT>\n\n<BR><FONT SIZE=2>&nbsp\; www.core-emt.com<
	/FONT>\n</P>\n<BR>\n\n</BODY>\n</HTML>
X-MICROSOFT-CDO-BUSYSTATUS:FREE
X-MICROSOFT-CDO-IMPORTANCE:2
X-MICROSOFT-DISALLOW-COUNTER:FALSE
X-MS-OLK-AUTOFILLLOCATION:FALSE
X-MS-OLK-CONFTYPE:0
BEGIN:VALARM
TRIGGER:-PT1080M
ACTION:DISPLAY
DESCRIPTION:Reminder
END:VALARM
END:VEVENT
END:VCALENDAR
